BEGIN:VCALENDAR
VERSION:2.0
PRODID:-//Area 93 District 11 - ECPv6.15.18//NONSGML v1.0//EN
CALSCALE:GREGORIAN
METHOD:PUBLISH
X-ORIGINAL-URL:https://area93d11aa.org
X-WR-CALDESC:Events for Area 93 District 11
REFRESH-INTERVAL;VALUE=DURATION:PT1H
X-Robots-Tag:noindex
X-PUBLISHED-TTL:PT1H
BEGIN:VTIMEZONE
TZID:America/Los_Angeles
BEGIN:DAYLIGHT
TZOFFSETFROM:-0800
TZOFFSETTO:-0700
TZNAME:PDT
DTSTART:20240310T100000
END:DAYLIGHT
BEGIN:STANDARD
TZOFFSETFROM:-0700
TZOFFSETTO:-0800
TZNAME:PST
DTSTART:20241103T090000
END:STANDARD
BEGIN:DAYLIGHT
TZOFFSETFROM:-0800
TZOFFSETTO:-0700
TZNAME:PDT
DTSTART:20250309T100000
END:DAYLIGHT
BEGIN:STANDARD
TZOFFSETFROM:-0700
TZOFFSETTO:-0800
TZNAME:PST
DTSTART:20251102T090000
END:STANDARD
BEGIN:DAYLIGHT
TZOFFSETFROM:-0800
TZOFFSETTO:-0700
TZNAME:PDT
DTSTART:20260308T100000
END:DAYLIGHT
BEGIN:STANDARD
TZOFFSETFROM:-0700
TZOFFSETTO:-0800
TZNAME:PST
DTSTART:20261101T090000
END:STANDARD
BEGIN:DAYLIGHT
TZOFFSETFROM:-0800
TZOFFSETTO:-0700
TZNAME:PDT
DTSTART:20270314T100000
END:DAYLIGHT
BEGIN:STANDARD
TZOFFSETFROM:-0700
TZOFFSETTO:-0800
TZNAME:PST
DTSTART:20271107T090000
END:STANDARD
END:VTIMEZONE
BEGIN:VEVENT
DTSTART;TZID=America/Los_Angeles:20260412T090000
DTEND;TZID=America/Los_Angeles:20260412T160000
DTSTAMP:20260420T105603
CREATED:20260328T230437Z
LAST-MODIFIED:20260328T231421Z
UID:371-1775984400-1776009600@area93d11aa.org
SUMMARY:Pre-Conference Workshop
DESCRIPTION:Come attend round tables to share your Group’s opinion on selected Agenda Items for the 74th General Service Conference in N.Y.\nLunch will be provided. We are self supporting through our own contributions.
URL:https://area93d11aa.org/event/pre-conference-workshop/
LOCATION:Loyal Order of the Moose\, 3101 E Ave Q\, Palmdale\, CA\, 93550\, United States
CATEGORIES:Special
END:VEVENT
BEGIN:VEVENT
DTSTART;TZID=America/Los_Angeles:20250907T080000
DTEND;TZID=America/Los_Angeles:20250907T170000
DTSTAMP:20260420T105603
CREATED:20250527T021224Z
LAST-MODIFIED:20250628T194649Z
UID:269-1757232000-1757264400@area93d11aa.org
SUMMARY:Area 93 Old Timers Event
DESCRIPTION:
URL:https://area93d11aa.org/event/area-93-old-timers-event/
LOCATION:CA
CATEGORIES:Special
END:VEVENT
BEGIN:VEVENT
DTSTART;TZID=America/Los_Angeles:20250614T083000
DTEND;TZID=America/Los_Angeles:20250614T083000
DTSTAMP:20260420T105603
CREATED:20250413T231908Z
LAST-MODIFIED:20250628T194748Z
UID:104-1749889800-1749889800@area93d11aa.org
SUMMARY:4 Area DCM Sharing Session
DESCRIPTION:Location: Agua Dulce Women’s Club\n33201 Agua Dulce Canyon Rd\nCA\, 91390
URL:https://area93d11aa.org/event/4-area-dcm-sharing-session/
LOCATION:Agua Dulce Women’s Club\, 33201 Agua Dulce Canyon Rd\, Agua Dulce\, CA\, 91390\, United States
CATEGORIES:Special
END:VEVENT
END:VCALENDAR