BEGIN:VCALENDAR
VERSION:2.0
PRODID:-//Area 93 District 11 - ECPv6.15.18//NONSGML v1.0//EN
CALSCALE:GREGORIAN
METHOD:PUBLISH
X-WR-CALNAME:Area 93 District 11
X-ORIGINAL-URL:https://area93d11aa.org
X-WR-CALDESC:Events for Area 93 District 11
REFRESH-INTERVAL;VALUE=DURATION:PT1H
X-Robots-Tag:noindex
X-PUBLISHED-TTL:PT1H
BEGIN:VTIMEZONE
TZID:America/Los_Angeles
BEGIN:DAYLIGHT
TZOFFSETFROM:-0800
TZOFFSETTO:-0700
TZNAME:PDT
DTSTART:20250309T100000
END:DAYLIGHT
BEGIN:STANDARD
TZOFFSETFROM:-0700
TZOFFSETTO:-0800
TZNAME:PST
DTSTART:20251102T090000
END:STANDARD
BEGIN:DAYLIGHT
TZOFFSETFROM:-0800
TZOFFSETTO:-0700
TZNAME:PDT
DTSTART:20260308T100000
END:DAYLIGHT
BEGIN:STANDARD
TZOFFSETFROM:-0700
TZOFFSETTO:-0800
TZNAME:PST
DTSTART:20261101T090000
END:STANDARD
BEGIN:DAYLIGHT
TZOFFSETFROM:-0800
TZOFFSETTO:-0700
TZNAME:PDT
DTSTART:20270314T100000
END:DAYLIGHT
BEGIN:STANDARD
TZOFFSETFROM:-0700
TZOFFSETTO:-0800
TZNAME:PST
DTSTART:20271107T090000
END:STANDARD
END:VTIMEZONE
BEGIN:VEVENT
DTSTART;TZID=America/Los_Angeles:20260502T140000
DTEND;TZID=America/Los_Angeles:20260502T160000
DTSTAMP:20260420T151728
CREATED:20251003T071234Z
LAST-MODIFIED:20251003T071234Z
UID:311-1777730400-1777737600@area93d11aa.org
SUMMARY:District 11 Business Meeting
DESCRIPTION:District 11 Meets the 1st Saturday of Every Month\nTIme: 2pm \nLocation: Pathfinders Club\n3367 Glendale Blvd.\nLos Angeles\, CA 90039 \nMeetings are hybrid – in person & Zoom\nSend request to dcm11@area93.org for Zoom info.
URL:https://area93d11aa.org/event/district-11-business-meeting-11/
LOCATION:Pathfinder\, 3367 Glendale Blvd\, Los Angeles\, CA\, 90039\, United States
CATEGORIES:Business meeting
END:VEVENT
BEGIN:VEVENT
DTSTART;TZID=America/Los_Angeles:20260606T140000
DTEND;TZID=America/Los_Angeles:20260606T160000
DTSTAMP:20260420T151728
CREATED:20251003T071259Z
LAST-MODIFIED:20251003T071259Z
UID:313-1780754400-1780761600@area93d11aa.org
SUMMARY:District 11 Business Meeting
DESCRIPTION:District 11 Meets the 1st Saturday of Every Month\nTIme: 2pm \nLocation: Pathfinders Club\n3367 Glendale Blvd.\nLos Angeles\, CA 90039 \nMeetings are hybrid – in person & Zoom\nSend request to dcm11@area93.org for Zoom info.
URL:https://area93d11aa.org/event/district-11-business-meeting-12/
LOCATION:Pathfinder\, 3367 Glendale Blvd\, Los Angeles\, CA\, 90039\, United States
CATEGORIES:Business meeting
END:VEVENT
BEGIN:VEVENT
DTSTART;TZID=America/Los_Angeles:20260704T140000
DTEND;TZID=America/Los_Angeles:20260704T160000
DTSTAMP:20260420T151728
CREATED:20251003T071330Z
LAST-MODIFIED:20251003T071330Z
UID:315-1783173600-1783180800@area93d11aa.org
SUMMARY:District 11 Business Meeting
DESCRIPTION:District 11 Meets the 1st Saturday of Every Month\nTIme: 2pm \nLocation: Pathfinders Club\n3367 Glendale Blvd.\nLos Angeles\, CA 90039 \nMeetings are hybrid – in person & Zoom\nSend request to dcm11@area93.org for Zoom info.
URL:https://area93d11aa.org/event/district-11-business-meeting-13/
LOCATION:Pathfinder\, 3367 Glendale Blvd\, Los Angeles\, CA\, 90039\, United States
CATEGORIES:Business meeting
END:VEVENT
BEGIN:VEVENT
DTSTART;TZID=America/Los_Angeles:20260801T140000
DTEND;TZID=America/Los_Angeles:20260801T160000
DTSTAMP:20260420T151728
CREATED:20251003T071355Z
LAST-MODIFIED:20251003T071355Z
UID:317-1785592800-1785600000@area93d11aa.org
SUMMARY:District 11 Business Meeting
DESCRIPTION:District 11 Meets the 1st Saturday of Every Month\nTIme: 2pm \nLocation: Pathfinders Club\n3367 Glendale Blvd.\nLos Angeles\, CA 90039 \nMeetings are hybrid – in person & Zoom\nSend request to dcm11@area93.org for Zoom info.
URL:https://area93d11aa.org/event/district-11-business-meeting-14/
LOCATION:Pathfinder\, 3367 Glendale Blvd\, Los Angeles\, CA\, 90039\, United States
CATEGORIES:Business meeting
END:VEVENT
BEGIN:VEVENT
DTSTART;TZID=America/Los_Angeles:20260905T140000
DTEND;TZID=America/Los_Angeles:20260905T160000
DTSTAMP:20260420T151728
CREATED:20251003T071422Z
LAST-MODIFIED:20251003T071422Z
UID:319-1788616800-1788624000@area93d11aa.org
SUMMARY:District 11 Business Meeting
DESCRIPTION:District 11 Meets the 1st Saturday of Every Month\nTIme: 2pm \nLocation: Pathfinders Club\n3367 Glendale Blvd.\nLos Angeles\, CA 90039 \nMeetings are hybrid – in person & Zoom\nSend request to dcm11@area93.org for Zoom info.
URL:https://area93d11aa.org/event/district-11-business-meeting-15/
LOCATION:Pathfinder\, 3367 Glendale Blvd\, Los Angeles\, CA\, 90039\, United States
CATEGORIES:Business meeting
END:VEVENT
BEGIN:VEVENT
DTSTART;TZID=America/Los_Angeles:20261003T140000
DTEND;TZID=America/Los_Angeles:20261003T160000
DTSTAMP:20260420T151728
CREATED:20251003T071447Z
LAST-MODIFIED:20251003T071447Z
UID:321-1791036000-1791043200@area93d11aa.org
SUMMARY:District 11 Business Meeting
DESCRIPTION:District 11 Meets the 1st Saturday of Every Month\nTIme: 2pm \nLocation: Pathfinders Club\n3367 Glendale Blvd.\nLos Angeles\, CA 90039 \nMeetings are hybrid – in person & Zoom\nSend request to dcm11@area93.org for Zoom info.
URL:https://area93d11aa.org/event/district-11-business-meeting-16/
LOCATION:Pathfinder\, 3367 Glendale Blvd\, Los Angeles\, CA\, 90039\, United States
CATEGORIES:Business meeting
END:VEVENT
BEGIN:VEVENT
DTSTART;TZID=America/Los_Angeles:20261107T140000
DTEND;TZID=America/Los_Angeles:20261107T160000
DTSTAMP:20260420T151728
CREATED:20251003T071513Z
LAST-MODIFIED:20251003T071513Z
UID:323-1794060000-1794067200@area93d11aa.org
SUMMARY:District 11 Business Meeting
DESCRIPTION:District 11 Meets the 1st Saturday of Every Month\nTIme: 2pm \nLocation: Pathfinders Club\n3367 Glendale Blvd.\nLos Angeles\, CA 90039 \nMeetings are hybrid – in person & Zoom\nSend request to dcm11@area93.org for Zoom info.
URL:https://area93d11aa.org/event/district-11-business-meeting-17/
LOCATION:Pathfinder\, 3367 Glendale Blvd\, Los Angeles\, CA\, 90039\, United States
CATEGORIES:Business meeting
END:VEVENT
BEGIN:VEVENT
DTSTART;TZID=America/Los_Angeles:20261205T140000
DTEND;TZID=America/Los_Angeles:20261205T160000
DTSTAMP:20260420T151728
CREATED:20251003T071541Z
LAST-MODIFIED:20251003T071541Z
UID:325-1796479200-1796486400@area93d11aa.org
SUMMARY:District 11 Business Meeting
DESCRIPTION:District 11 Meets the 1st Saturday of Every Month\nTIme: 2pm \nLocation: Pathfinders Club\n3367 Glendale Blvd.\nLos Angeles\, CA 90039 \nMeetings are hybrid – in person & Zoom\nSend request to dcm11@area93.org for Zoom info.
URL:https://area93d11aa.org/event/district-11-business-meeting-18/
LOCATION:Pathfinder\, 3367 Glendale Blvd\, Los Angeles\, CA\, 90039\, United States
CATEGORIES:Business meeting
END:VEVENT
END:VCALENDAR