BEGIN:VCALENDAR
VERSION:2.0
PRODID:-//Area 93 District 11 - ECPv6.15.18//NONSGML v1.0//EN
CALSCALE:GREGORIAN
METHOD:PUBLISH
X-ORIGINAL-URL:https://area93d11aa.org
X-WR-CALDESC:Events for Area 93 District 11
REFRESH-INTERVAL;VALUE=DURATION:PT1H
X-Robots-Tag:noindex
X-PUBLISHED-TTL:PT1H
BEGIN:VTIMEZONE
TZID:America/Los_Angeles
BEGIN:DAYLIGHT
TZOFFSETFROM:-0800
TZOFFSETTO:-0700
TZNAME:PDT
DTSTART:20240310T100000
END:DAYLIGHT
BEGIN:STANDARD
TZOFFSETFROM:-0700
TZOFFSETTO:-0800
TZNAME:PST
DTSTART:20241103T090000
END:STANDARD
BEGIN:DAYLIGHT
TZOFFSETFROM:-0800
TZOFFSETTO:-0700
TZNAME:PDT
DTSTART:20250309T100000
END:DAYLIGHT
BEGIN:STANDARD
TZOFFSETFROM:-0700
TZOFFSETTO:-0800
TZNAME:PST
DTSTART:20251102T090000
END:STANDARD
BEGIN:DAYLIGHT
TZOFFSETFROM:-0800
TZOFFSETTO:-0700
TZNAME:PDT
DTSTART:20260308T100000
END:DAYLIGHT
BEGIN:STANDARD
TZOFFSETFROM:-0700
TZOFFSETTO:-0800
TZNAME:PST
DTSTART:20261101T090000
END:STANDARD
END:VTIMEZONE
BEGIN:VEVENT
DTSTART;TZID=America/Los_Angeles:20251116T080000
DTEND;TZID=America/Los_Angeles:20251116T170000
DTSTAMP:20260420T171633
CREATED:20251003T073035Z
LAST-MODIFIED:20251003T073035Z
UID:329-1763280000-1763312400@area93d11aa.org
SUMMARY:Area Assembly
DESCRIPTION:
URL:https://area93d11aa.org/event/area-assembly-2/
CATEGORIES:Assembly
END:VEVENT
BEGIN:VEVENT
DTSTART;TZID=America/Los_Angeles:20250817T080000
DTEND;TZID=America/Los_Angeles:20250817T170000
DTSTAMP:20260420T171633
CREATED:20250527T021135Z
LAST-MODIFIED:20250628T194637Z
UID:267-1755417600-1755450000@area93d11aa.org
SUMMARY:Area Assembly
DESCRIPTION:
URL:https://area93d11aa.org/event/area-assembly/
CATEGORIES:Assembly
END:VEVENT
BEGIN:VEVENT
DTSTART;TZID=America/Los_Angeles:20250518T080000
DTEND;TZID=America/Los_Angeles:20250518T170000
DTSTAMP:20260420T171633
CREATED:20250413T231222Z
LAST-MODIFIED:20250628T195308Z
UID:102-1747555200-1747587600@area93d11aa.org
SUMMARY:Area 93 Area Assembly
DESCRIPTION:Location TBD
URL:https://area93d11aa.org/event/area-93-area-assembly/
CATEGORIES:Assembly
END:VEVENT
END:VCALENDAR